BEGIN:VCALENDAR
VERSION:2.0
PRODID:spatie/icalendar-generator
DESCRIPTION:Events from Living Word Lutheran Church
X-WR-CALDESC:Events from Living Word Lutheran Church
REFRESH-INTERVAL;VALUE=DURATION:PT1440M
X-PUBLISHED-TTL:PT1440M
BEGIN:VTIMEZONE
TZID:America/New_York
BEGIN:STANDARD
DTSTART:20251102T020000Z
TZOFFSETFROM:-0400
TZOFFSETTO:-0500
END:STANDARD
BEGIN:DAYLIGHT
DTSTART:20260308T020000Z
TZOFFSETFROM:-0500
TZOFFSETTO:-0400
END:DAYLIGHT
END:VTIMEZONE
BEGIN:VTIMEZONE
TZID:UTC
BEGIN:STANDARD
DTSTART:20250728T101616Z
TZOFFSETFROM:+0000
TZOFFSETTO:+0000
END:STANDARD
END:VTIMEZONE
BEGIN:VEVENT
UID:631-14
DTSTAMP:20260424T101616Z
SUMMARY:Easter Egg Hunt
LOCATION:
ORGANIZER;CN=Living Word Lutheran Church:MAILTO:LWLCmedia@yahoo.com
DTSTART;TZID=America/New_York:20260329T113000
DTEND;TZID=America/New_York:20260329T120000
X-ALT-DESC;FMTTYPE=TEXT/HTML:Registration is required for this event &amp;nbsp\
 ; https://forms.gle/f5R3GfFgWQcgnPrA9 &amp;nbsp\;
CATEGORIES:Calendar,  General
URL;VALUE=URI:https://livingwordorland.org/mc-events/easter-egg-hunt/
METHOD:PUBLISH
END:VEVENT
END:VCALENDAR