BEGIN:VCALENDAR
VERSION:2.0
PRODID:spatie/icalendar-generator
DESCRIPTION:Events from Living Word Lutheran Church
X-WR-CALDESC:Events from Living Word Lutheran Church
REFRESH-INTERVAL;VALUE=DURATION:PT1440M
X-PUBLISHED-TTL:PT1440M
BEGIN:VTIMEZONE
TZID:America/New_York
BEGIN:STANDARD
DTSTART:20251102T020000Z
TZOFFSETFROM:-0400
TZOFFSETTO:-0500
END:STANDARD
BEGIN:DAYLIGHT
DTSTART:20260308T020000Z
TZOFFSETFROM:-0500
TZOFFSETTO:-0400
END:DAYLIGHT
BEGIN:STANDARD
DTSTART:20261101T020000Z
TZOFFSETFROM:-0400
TZOFFSETTO:-0500
END:STANDARD
END:VTIMEZONE
BEGIN:VTIMEZONE
TZID:UTC
BEGIN:STANDARD
DTSTART:20250725T232506Z
TZOFFSETFROM:+0000
TZOFFSETTO:+0000
END:STANDARD
END:VTIMEZONE
BEGIN:VEVENT
UID:644-16
DTSTAMP:20260421T232506Z
SUMMARY:VBS
LOCATION:
ORGANIZER;CN=Living Word Lutheran Church:MAILTO:LWLCmedia@yahoo.com
RRULE:FREQ=DAILY;UNTIL=20260725T000000Z
DTSTART;TZID=America/New_York:20260723T090000
DTEND;TZID=America/New_York:20260723T120000
X-ALT-DESC;FMTTYPE=TEXT/HTML:Registraion is requried for this event 
CATEGORIES:Calendar,  General
URL;VALUE=URI:https://livingwordorland.org/mc-events/vbs-2/?mc_id=644
METHOD:PUBLISH
END:VEVENT
END:VCALENDAR